BEGIN:VCALENDAR
VERSION:2.0
PRODID:-//Crafts &amp; Vines - ECPv6.15.20//NONSGML v1.0//EN
CALSCALE:GREGORIAN
METHOD:PUBLISH
X-ORIGINAL-URL:https://craftsandvines.com
X-WR-CALDESC:Events for Crafts &amp; Vines
REFRESH-INTERVAL;VALUE=DURATION:PT1H
X-Robots-Tag:noindex
X-PUBLISHED-TTL:PT1H
BEGIN:VTIMEZONE
TZID:America/New_York
BEGIN:DAYLIGHT
TZOFFSETFROM:-0500
TZOFFSETTO:-0400
TZNAME:EDT
DTSTART:20250309T070000
END:DAYLIGHT
BEGIN:STANDARD
TZOFFSETFROM:-0400
TZOFFSETTO:-0500
TZNAME:EST
DTSTART:20251102T060000
END:STANDARD
BEGIN:DAYLIGHT
TZOFFSETFROM:-0500
TZOFFSETTO:-0400
TZNAME:EDT
DTSTART:20260308T070000
END:DAYLIGHT
BEGIN:STANDARD
TZOFFSETFROM:-0400
TZOFFSETTO:-0500
TZNAME:EST
DTSTART:20261101T060000
END:STANDARD
BEGIN:DAYLIGHT
TZOFFSETFROM:-0500
TZOFFSETTO:-0400
TZNAME:EDT
DTSTART:20270314T070000
END:DAYLIGHT
BEGIN:STANDARD
TZOFFSETFROM:-0400
TZOFFSETTO:-0500
TZNAME:EST
DTSTART:20271107T060000
END:STANDARD
END:VTIMEZONE
BEGIN:VEVENT
DTSTART;TZID=America/New_York:20260409T180000
DTEND;TZID=America/New_York:20260409T210000
DTSTAMP:20260424T011116
CREATED:20260328T164030Z
LAST-MODIFIED:20260328T164554Z
UID:5740-1775757600-1775768400@craftsandvines.com
SUMMARY:Wine Tasting
DESCRIPTION:Spencer from Skurnik Wine & Spirits will be here pouring 4 wines for you to explore. \nTwo seatings available 6:00 and 7:45 \n4 tastes $12
URL:https://craftsandvines.com/event/wine-tasting-39/
END:VEVENT
END:VCALENDAR