BEGIN:VCALENDAR
VERSION:2.0
PRODID:-//Crafts &amp; Vines - ECPv6.15.20//NONSGML v1.0//EN
CALSCALE:GREGORIAN
METHOD:PUBLISH
X-ORIGINAL-URL:https://craftsandvines.com
X-WR-CALDESC:Events for Crafts &amp; Vines
REFRESH-INTERVAL;VALUE=DURATION:PT1H
X-Robots-Tag:noindex
X-PUBLISHED-TTL:PT1H
BEGIN:VTIMEZONE
TZID:America/New_York
BEGIN:DAYLIGHT
TZOFFSETFROM:-0500
TZOFFSETTO:-0400
TZNAME:EDT
DTSTART:20250309T070000
END:DAYLIGHT
BEGIN:STANDARD
TZOFFSETFROM:-0400
TZOFFSETTO:-0500
TZNAME:EST
DTSTART:20251102T060000
END:STANDARD
BEGIN:DAYLIGHT
TZOFFSETFROM:-0500
TZOFFSETTO:-0400
TZNAME:EDT
DTSTART:20260308T070000
END:DAYLIGHT
BEGIN:STANDARD
TZOFFSETFROM:-0400
TZOFFSETTO:-0500
TZNAME:EST
DTSTART:20261101T060000
END:STANDARD
BEGIN:DAYLIGHT
TZOFFSETFROM:-0500
TZOFFSETTO:-0400
TZNAME:EDT
DTSTART:20270314T070000
END:DAYLIGHT
BEGIN:STANDARD
TZOFFSETFROM:-0400
TZOFFSETTO:-0500
TZNAME:EST
DTSTART:20271107T060000
END:STANDARD
END:VTIMEZONE
BEGIN:VEVENT
DTSTART;TZID=America/New_York:20260419T160000
DTEND;TZID=America/New_York:20260419T180000
DTSTAMP:20260424T011116
CREATED:20260328T165247Z
LAST-MODIFIED:20260328T165247Z
UID:5744-1776614400-1776621600@craftsandvines.com
SUMMARY:Wine & Cigar Pairing
DESCRIPTION:Were back with another wine and cigar pairing with Rob from Cutting Edge Selections and Jim from Straus Tobacconists. Rob will be pouring 4 wines (wines tbd) expertly paired with 4 cigars. Cigar pairing is optional. As always you may enjoy just the wine tasting portion of the event. \nWine Tasting is $12 for 4 tastes \nCigars pairing is $15 and must be purchased separately from Straus Tobacconists. \nLimited seating available.Reservations highly recommended as this event usually fill up fast.
URL:https://craftsandvines.com/event/wine-cigar-pairing/
END:VEVENT
END:VCALENDAR