BEGIN:VCALENDAR
VERSION:2.0
PRODID:-//Crafts &amp; Vines - ECPv6.15.20//NONSGML v1.0//EN
CALSCALE:GREGORIAN
METHOD:PUBLISH
X-WR-CALNAME:Crafts &amp; Vines
X-ORIGINAL-URL:https://craftsandvines.com
X-WR-CALDESC:Events for Crafts &amp; Vines
REFRESH-INTERVAL;VALUE=DURATION:PT1H
X-Robots-Tag:noindex
X-PUBLISHED-TTL:PT1H
BEGIN:VTIMEZONE
TZID:America/New_York
BEGIN:DAYLIGHT
TZOFFSETFROM:-0500
TZOFFSETTO:-0400
TZNAME:EDT
DTSTART:20210314T070000
END:DAYLIGHT
BEGIN:STANDARD
TZOFFSETFROM:-0400
TZOFFSETTO:-0500
TZNAME:EST
DTSTART:20211107T060000
END:STANDARD
BEGIN:DAYLIGHT
TZOFFSETFROM:-0500
TZOFFSETTO:-0400
TZNAME:EDT
DTSTART:20220313T070000
END:DAYLIGHT
BEGIN:STANDARD
TZOFFSETFROM:-0400
TZOFFSETTO:-0500
TZNAME:EST
DTSTART:20221106T060000
END:STANDARD
BEGIN:DAYLIGHT
TZOFFSETFROM:-0500
TZOFFSETTO:-0400
TZNAME:EDT
DTSTART:20230312T070000
END:DAYLIGHT
BEGIN:STANDARD
TZOFFSETFROM:-0400
TZOFFSETTO:-0500
TZNAME:EST
DTSTART:20231105T060000
END:STANDARD
END:VTIMEZONE
BEGIN:VEVENT
DTSTART;TZID=America/New_York:20220818T183000
DTEND;TZID=America/New_York:20220818T203000
DTSTAMP:20260425T123512
CREATED:20220709T165743Z
LAST-MODIFIED:20220709T165743Z
UID:5519-1660847400-1660854600@craftsandvines.com
SUMMARY:Ladies Night
DESCRIPTION:
URL:https://craftsandvines.com/event/ladies-night/
END:VEVENT
BEGIN:VEVENT
DTSTART;TZID=America/New_York:20220817T190000
DTEND;TZID=America/New_York:20220817T210000
DTSTAMP:20260425T123512
CREATED:20220709T165637Z
LAST-MODIFIED:20220709T165637Z
UID:5517-1660762800-1660770000@craftsandvines.com
SUMMARY:Wine 201- Oregon AVA Master Class
DESCRIPTION:Call for details
URL:https://craftsandvines.com/event/wine-201-oregon-ava-master-class/
END:VEVENT
BEGIN:VEVENT
DTSTART;TZID=America/New_York:20220811T180000
DTEND;TZID=America/New_York:20220811T210000
DTSTAMP:20260425T123512
CREATED:20220709T165331Z
LAST-MODIFIED:20220709T165946Z
UID:5515-1660240800-1660251600@craftsandvines.com
SUMMARY:Wine Tasting
DESCRIPTION:Reservations accepted for 2 seatings 6:00 and 7:45. \nWalk in seating will be available. \nWines TBD-4 Tastes $10
URL:https://craftsandvines.com/event/wine-tasting-34/
END:VEVENT
BEGIN:VEVENT
DTSTART;TZID=America/New_York:20220728T180000
DTEND;TZID=America/New_York:20220728T210000
DTSTAMP:20260425T123512
CREATED:20220709T165127Z
LAST-MODIFIED:20220709T165210Z
UID:5513-1659031200-1659042000@craftsandvines.com
SUMMARY:Wine Tasting
DESCRIPTION:Reservations accepted for 2 seatings 6:00 and 7:45. \nWalk in seating will be available. \nWines TBD-4 Tastes $10
URL:https://craftsandvines.com/event/wine-tasting-33/
END:VEVENT
BEGIN:VEVENT
DTSTART;TZID=America/New_York:20220714T180000
DTEND;TZID=America/New_York:20220714T210000
DTSTAMP:20260425T123512
CREATED:20220709T165022Z
LAST-MODIFIED:20220709T165022Z
UID:5511-1657821600-1657832400@craftsandvines.com
SUMMARY:Wine Tasting
DESCRIPTION:French Wines- reservations accepted for 2 seatings 6:00 and 7:45. \nWalk in seating will be available. 4 Tastes $10
URL:https://craftsandvines.com/event/wine-tasting-32/
END:VEVENT
BEGIN:VEVENT
DTSTART;TZID=America/New_York:20220709T120000
DTEND;TZID=America/New_York:20220709T150000
DTSTAMP:20260425T123512
CREATED:20220709T164659Z
LAST-MODIFIED:20220709T164659Z
UID:5508-1657368000-1657378800@craftsandvines.com
SUMMARY:Scarlet Begonia's Flower Truck Pop-UP
DESCRIPTION:
URL:https://craftsandvines.com/event/scarlet-begonias-flower-truck-pop-up-2/
END:VEVENT
BEGIN:VEVENT
DTSTART;TZID=America/New_York:20220615T190000
DTEND;TZID=America/New_York:20220615T210000
DTSTAMP:20260425T123512
CREATED:20220214T184556Z
LAST-MODIFIED:20220214T184556Z
UID:5317-1655319600-1655326800@craftsandvines.com
SUMMARY:Wine 201- Intermediate Wine Studies
DESCRIPTION:Obscure Grapes and Great Values
URL:https://craftsandvines.com/event/wine-201-intermediate-wine-studies-3/
END:VEVENT
BEGIN:VEVENT
DTSTART;TZID=America/New_York:20220525T190000
DTEND;TZID=America/New_York:20220525T210000
DTSTAMP:20260425T123512
CREATED:20220214T184253Z
LAST-MODIFIED:20220214T184253Z
UID:5315-1653505200-1653512400@craftsandvines.com
SUMMARY:Wine 201- Intermediate Wine Studies
DESCRIPTION:Wines of Willamette Valley\, Oregon
URL:https://craftsandvines.com/event/wine-201-intermediate-wine-studies-2/
END:VEVENT
BEGIN:VEVENT
DTSTART;TZID=America/New_York:20220519T180000
DTEND;TZID=America/New_York:20220519T210000
DTSTAMP:20260425T123512
CREATED:20220301T183137Z
LAST-MODIFIED:20220301T183137Z
UID:5368-1652983200-1652994000@craftsandvines.com
SUMMARY:Wine Tasting
DESCRIPTION:Limited seating available\, reservations required for 2 seatings 6:00 and 7:45. \nCall to reserve your seat\, limited walk in seating will be available. \nWines TBD- 4 Tastes $10
URL:https://craftsandvines.com/event/wine-tasting-31/
END:VEVENT
BEGIN:VEVENT
DTSTART;TZID=America/New_York:20220514T140000
DTEND;TZID=America/New_York:20220514T180000
DTSTAMP:20260425T123512
CREATED:20220308T164955Z
LAST-MODIFIED:20220308T164955Z
UID:5379-1652536800-1652551200@craftsandvines.com
SUMMARY:Lovesome Equitherapy Fundraiser
DESCRIPTION:
URL:https://craftsandvines.com/event/lovesome-equitherapy-fundraiser/
END:VEVENT
BEGIN:VEVENT
DTSTART;TZID=America/New_York:20220507T170000
DTEND;TZID=America/New_York:20220507T233000
DTSTAMP:20260425T123512
CREATED:20220301T183031Z
LAST-MODIFIED:20220301T183031Z
UID:5366-1651942800-1651966200@craftsandvines.com
SUMMARY:Derby Day
DESCRIPTION:
URL:https://craftsandvines.com/event/derby-day-2/
END:VEVENT
BEGIN:VEVENT
DTSTART;TZID=America/New_York:20220505T180000
DTEND;TZID=America/New_York:20220505T210000
DTSTAMP:20260425T123512
CREATED:20220301T182927Z
LAST-MODIFIED:20220301T182927Z
UID:5364-1651773600-1651784400@craftsandvines.com
SUMMARY:Wine Tasting
DESCRIPTION:Limited seating available\, reservations required for 2 seatings 6:00 and 7:45. \nCall to reserve your seat\, limited walk in seating will be available. \nWines TBD- 4 Tastes $10
URL:https://craftsandvines.com/event/wine-tasting-30/
END:VEVENT
BEGIN:VEVENT
DTSTART;TZID=America/New_York:20220503T183000
DTEND;TZID=America/New_York:20220503T203000
DTSTAMP:20260425T123512
CREATED:20220301T181153Z
LAST-MODIFIED:20220301T181153Z
UID:5352-1651602600-1651609800@craftsandvines.com
SUMMARY:Book Club Meeting
DESCRIPTION:Love wine and reading? Join us for the Wine & Words Book Club! We are a laid back\, friendly group that meets the first Tuesday of each month (subject to change around holidays). All you have to do is read the book of the month and show up- we hope you can join!\nMay Book: The Dark Descent of Elizabeth Frankenstein by Kiersten White\nSYNOPSIS: Elizabeth Lavenza hasn’t had a proper meal in weeks. Her thin arms are covered with bruises from her “caregiver\,” and she is on the verge of being thrown into the streets . . . until she is brought to the home of Victor Frankenstein\, an unsmiling\, solitary boy who has everything—except a friend.\nVictor is her escape from misery. Elizabeth does everything she can to make herself indispensable—and it works. She is taken in by the Frankenstein family and rewarded with a warm bed\, delicious food\, and dresses of the finest silk. Soon she and Victor are inseparable.\nBut her new life comes at a price. As the years pass\, Elizabeth’s survival depends on managing Victor’s dangerous temper and entertaining his every whim\, no matter how depraved. Behind her blue eyes and sweet smile lies the calculating heart of a girl determined to stay alive no matter the cost . . . as the world she knows is consumed by darkness.
URL:https://craftsandvines.com/event/book-club-meeting-2/
END:VEVENT
BEGIN:VEVENT
DTSTART;TZID=America/New_York:20220421T180000
DTEND;TZID=America/New_York:20220421T210000
DTSTAMP:20260425T123512
CREATED:20220301T182825Z
LAST-MODIFIED:20220301T182825Z
UID:5362-1650564000-1650574800@craftsandvines.com
SUMMARY:Wine Tasting
DESCRIPTION:Limited seating available\, reservations required for 2 seatings 6:00 and 7:45. \nCall to reserve your seat\, limited walk in seating will be available. \nWines TBD- 4 Tastes $10
URL:https://craftsandvines.com/event/wine-tasting-29/
END:VEVENT
BEGIN:VEVENT
DTSTART;TZID=America/New_York:20220420T190000
DTEND;TZID=America/New_York:20220420T210000
DTSTAMP:20260425T123512
CREATED:20220214T184141Z
LAST-MODIFIED:20220214T184141Z
UID:5313-1650481200-1650488400@craftsandvines.com
SUMMARY:Wine 201-Intermediate Wine Studies
DESCRIPTION:Wines of Bordeaux\, France
URL:https://craftsandvines.com/event/wine-201-intermediate-wine-studies/
END:VEVENT
BEGIN:VEVENT
DTSTART;TZID=America/New_York:20220417T140000
DTEND;TZID=America/New_York:20220417T190000
DTSTAMP:20260425T123512
CREATED:20220301T182720Z
LAST-MODIFIED:20220301T182720Z
UID:5360-1650204000-1650222000@craftsandvines.com
SUMMARY:Closed for Easter
DESCRIPTION:
URL:https://craftsandvines.com/event/closed-for-easter/
END:VEVENT
BEGIN:VEVENT
DTSTART;TZID=America/New_York:20220416T120000
DTEND;TZID=America/New_York:20220416T170000
DTSTAMP:20260425T123512
CREATED:20220322T170644Z
LAST-MODIFIED:20220322T170644Z
UID:5401-1650110400-1650128400@craftsandvines.com
SUMMARY:Scarlet Begonia Flower Truck Pop-UP
DESCRIPTION:
URL:https://craftsandvines.com/event/scarlet-begonia-flower-truck-pop-up/
END:VEVENT
BEGIN:VEVENT
DTSTART;TZID=America/New_York:20220407T180000
DTEND;TZID=America/New_York:20220407T210000
DTSTAMP:20260425T123512
CREATED:20220301T181741Z
LAST-MODIFIED:20220301T181741Z
UID:5356-1649354400-1649365200@craftsandvines.com
SUMMARY:Wine Tasting
DESCRIPTION:
URL:https://craftsandvines.com/event/wine-tasting-27/
END:VEVENT
BEGIN:VEVENT
DTSTART;TZID=America/New_York:20220405T183000
DTEND;TZID=America/New_York:20220405T203000
DTSTAMP:20260425T123512
CREATED:20220301T180956Z
LAST-MODIFIED:20220301T180956Z
UID:5350-1649183400-1649190600@craftsandvines.com
SUMMARY:Book Club Meeting
DESCRIPTION:Love wine and reading? Join us for the Wine & Words Book Club! We are a laid back\, friendly group that meets the first Tuesday of each month (subject to change around holidays). All you have to do is read the book of the month and show up- we hope you can join (in- person or via Zoom)!\nApril Book: People Like Her By Ellery Lloyd\nSYNOPSIS: Followed by Millions\, Watched by One\nTo her adoring fans\, Emmy Jackson\, aka @the_mamabare\, is the honest “Instamum” who always tells it like it is.\nTo her skeptical husband\, a washed-up novelist who knows just how creative Emmy can be with the truth\, she is a bread winning powerhouse chillingly brilliant at monetizing the intimate details of their family life.\nTo one of Emmy’s dangerously obsessive followers\, she’s the woman that has everything—but deserves none of it.\nAs Emmy’s marriage begins to crack under the strain of her growing success and her moral compass veers wildly off course\, the more vulnerable she becomes to a very real danger circling ever closer to her family.\nIn this deeply addictive tale of psychological suspense\, Ellery Lloyd raises important questions about technology\, social media celebrity\, and the way we live today. Probing the dark side of influencer culture and the perils of parenting online\, People Like Her explores our desperate need to be seen and the lengths we’ll go to be liked by strangers. It asks what—and who—we sacrifice when make our private lives public\, and ultimately lose control of who we let in.
URL:https://craftsandvines.com/event/book-club-meeting/
END:VEVENT
BEGIN:VEVENT
DTSTART;TZID=America/New_York:20220402T120000
DTEND;TZID=America/New_York:20220402T170000
DTSTAMP:20260425T123512
CREATED:20220323T205323Z
LAST-MODIFIED:20220323T205323Z
UID:5406-1648900800-1648918800@craftsandvines.com
SUMMARY:Rose All Day Returns
DESCRIPTION:Rose All Day- Every Saturday through September.
URL:https://craftsandvines.com/event/rose-all-day-returns-2/
END:VEVENT
BEGIN:VEVENT
DTSTART;TZID=America/New_York:20220327T120000
DTEND;TZID=America/New_York:20220327T150000
DTSTAMP:20260425T123512
CREATED:20220308T165204Z
LAST-MODIFIED:20220308T165204Z
UID:5381-1648382400-1648393200@craftsandvines.com
SUMMARY:Closed Noon-3PM For A Private Event
DESCRIPTION:
URL:https://craftsandvines.com/event/closed-noon-3pm-for-a-private-event/
END:VEVENT
BEGIN:VEVENT
DTSTART;TZID=America/New_York:20220324T183000
DTEND;TZID=America/New_York:20220324T210000
DTSTAMP:20260425T123512
CREATED:20220301T182026Z
LAST-MODIFIED:20220301T182606Z
UID:5358-1648146600-1648155600@craftsandvines.com
SUMMARY:Wine Tasting
DESCRIPTION:Limited seating available\, reservations required for 2 seatings 6:00 and 7:45. \nCall to reserve your seat\, limited walk in seating will be available. \nWines TBD- 4 Tastes $10
URL:https://craftsandvines.com/event/wine-tasting-28/
END:VEVENT
BEGIN:VEVENT
DTSTART;TZID=America/New_York:20220321T120000
DTEND;TZID=America/New_York:20220321T160000
DTSTAMP:20260425T123512
CREATED:20220214T183526Z
LAST-MODIFIED:20220301T181322Z
UID:5304-1647864000-1647878400@craftsandvines.com
SUMMARY:Closed For Private Event 2PM to 4PM
DESCRIPTION:
URL:https://craftsandvines.com/event/closed-for-private-event-2/
END:VEVENT
BEGIN:VEVENT
DTSTART;TZID=America/New_York:20220316T190000
DTEND;TZID=America/New_York:20220316T210000
DTSTAMP:20260425T123512
CREATED:20220214T183938Z
LAST-MODIFIED:20220214T183938Z
UID:5310-1647457200-1647464400@craftsandvines.com
SUMMARY:Wine 201- Intermediate Wine Education Studies
DESCRIPTION:Wine Economics- Why Some Wines Cost More Than Others?
URL:https://craftsandvines.com/event/wine-201-intermediate-wine-education-studies/
END:VEVENT
BEGIN:VEVENT
DTSTART;TZID=America/New_York:20220312T120000
DTEND;TZID=America/New_York:20220312T143000
DTSTAMP:20260425T123512
CREATED:20220214T183431Z
LAST-MODIFIED:20220301T181410Z
UID:5302-1647086400-1647095400@craftsandvines.com
SUMMARY:Closed For Private Event 12PM-2:30PM
DESCRIPTION:
URL:https://craftsandvines.com/event/closed-for-private-event/
END:VEVENT
BEGIN:VEVENT
DTSTART;TZID=America/New_York:20220310T180000
DTEND;TZID=America/New_York:20220310T210000
DTSTAMP:20260425T123512
CREATED:20220214T183745Z
LAST-MODIFIED:20220308T164844Z
UID:5308-1646935200-1646946000@craftsandvines.com
SUMMARY:Wine Tasting
DESCRIPTION:We will be featuring wines from Washington State to celebrate Washington Wine Month. \n  \nLimited seating available\, reservations required for 2 seatings 6:00 and 7:45. \nCall to reserve your seat \nWines TBD- 4 Tastes $10
URL:https://craftsandvines.com/event/wine-tasting-26/
END:VEVENT
BEGIN:VEVENT
DTSTART;TZID=America/New_York:20220306T150000
DTEND;TZID=America/New_York:20220306T180000
DTSTAMP:20260425T123512
CREATED:20220301T180548Z
LAST-MODIFIED:20220301T180548Z
UID:5346-1646578800-1646589600@craftsandvines.com
SUMMARY:3rd Annual Chili Cookoff
DESCRIPTION:We’re bringing back our annual Chili Cook Off! And once again we’re teaming up with Wooden Cask Brewing Company for the event.\nEntrance Fee for Cooks $25 due at registration\n-10 Entrants max-\nPlease register in person with a staff member at Crafts & Vines or by calling 859-360-0476 or send us an email at craftsandvines@gmail.com\nEach cook needs to bring 6 quarts of chili in a crockpot with serving utensils. Tables\, electricity and a pint of beer will be provided for each cook.\nCook Off Prizes:\n1st Place- $100 and a trophy\n2nd Place- $75\nPeople’s Choice-$25\nTasters:$10 includes 2oz taste of each chili a vote for there favorite chili and a pint of Wooden Cask beer. Cups of chili available for purchase after judging. \nSee less
URL:https://craftsandvines.com/event/3rd-annual-chili-cookoff/
END:VEVENT
BEGIN:VEVENT
DTSTART;TZID=America/New_York:20220301T183000
DTEND;TZID=America/New_York:20220301T203000
DTSTAMP:20260425T123512
CREATED:20220301T180737Z
LAST-MODIFIED:20220301T180737Z
UID:5348-1646159400-1646166600@craftsandvines.com
SUMMARY:Book Club
DESCRIPTION:March Book Selection-The Seven Husbands of Evelyn Hugo
URL:https://craftsandvines.com/event/book-club/
END:VEVENT
BEGIN:VEVENT
DTSTART;TZID=America/New_York:20220226T190000
DTEND;TZID=America/New_York:20220226T190000
DTSTAMP:20260425T123512
CREATED:20220214T183308Z
LAST-MODIFIED:20220214T183308Z
UID:5300-1645902000-1645902000@craftsandvines.com
SUMMARY:MainStrasse Village Mardi Gras Parade
DESCRIPTION:Join us for Mardi Gras and MainStrasse Villages annual Mardi Gras Big Head parade.
URL:https://craftsandvines.com/event/mainstrasse-village-mardi-gras-parade/
END:VEVENT
BEGIN:VEVENT
DTSTART;TZID=America/New_York:20220224T180000
DTEND;TZID=America/New_York:20220224T210000
DTSTAMP:20260425T123512
CREATED:20220214T183620Z
LAST-MODIFIED:20220214T183620Z
UID:5306-1645725600-1645736400@craftsandvines.com
SUMMARY:Wine Tasting
DESCRIPTION:Limited seating available\, reservations required for 2 seatings 6:00 and 7:45. \nCall to reserve your seat \nWines TBD- 4 Tastes $10
URL:https://craftsandvines.com/event/wine-tasting-25/
END:VEVENT
END:VCALENDAR