BEGIN:VCALENDAR
VERSION:2.0
PRODID:-//Crafts &amp; Vines - ECPv6.15.20//NONSGML v1.0//EN
CALSCALE:GREGORIAN
METHOD:PUBLISH
X-ORIGINAL-URL:https://craftsandvines.com
X-WR-CALDESC:Events for Crafts &amp; Vines
REFRESH-INTERVAL;VALUE=DURATION:PT1H
X-Robots-Tag:noindex
X-PUBLISHED-TTL:PT1H
BEGIN:VTIMEZONE
TZID:America/New_York
BEGIN:DAYLIGHT
TZOFFSETFROM:-0500
TZOFFSETTO:-0400
TZNAME:EDT
DTSTART:20200308T070000
END:DAYLIGHT
BEGIN:STANDARD
TZOFFSETFROM:-0400
TZOFFSETTO:-0500
TZNAME:EST
DTSTART:20201101T060000
END:STANDARD
BEGIN:DAYLIGHT
TZOFFSETFROM:-0500
TZOFFSETTO:-0400
TZNAME:EDT
DTSTART:20210314T070000
END:DAYLIGHT
BEGIN:STANDARD
TZOFFSETFROM:-0400
TZOFFSETTO:-0500
TZNAME:EST
DTSTART:20211107T060000
END:STANDARD
BEGIN:DAYLIGHT
TZOFFSETFROM:-0500
TZOFFSETTO:-0400
TZNAME:EDT
DTSTART:20220313T070000
END:DAYLIGHT
BEGIN:STANDARD
TZOFFSETFROM:-0400
TZOFFSETTO:-0500
TZNAME:EST
DTSTART:20221106T060000
END:STANDARD
END:VTIMEZONE
BEGIN:VEVENT
DTSTART;TZID=America/New_York:20210929T190000
DTEND;TZID=America/New_York:20210929T210000
DTSTAMP:20260424T084911
CREATED:20210624T204531Z
LAST-MODIFIED:20210914T223735Z
UID:4876-1632942000-1632949200@craftsandvines.com
SUMMARY:Wine 101- Introduction Wine
DESCRIPTION:Unconventional Wines: Explore unique styles of wine and how they are made-including Port\, Sherry\, Champagne\, Dessert Wine\, and Sake. \nWine seminars taught by Austin Beeman. $25 per session. Limited seating available. Call us to reserve your spot.
URL:https://craftsandvines.com/event/wine-101-introduction-wine/
END:VEVENT
BEGIN:VEVENT
DTSTART;TZID=America/New_York:20210925T120000
DTEND;TZID=America/New_York:20210925T170000
DTSTAMP:20260424T084911
CREATED:20210914T224126Z
LAST-MODIFIED:20210914T224201Z
UID:5024-1632571200-1632589200@craftsandvines.com
SUMMARY:Moira Rose- Rose' All Day
DESCRIPTION:“This wine is awful! Give me another glass!”\nJoin us for a Schitt’s Creek themed event as we dedicate the last Rosé All Day to the ultimate wine connoisseur- Moira Rose. Come dressed as your favorite character on the show and win a prize!\n*Event lasts from 12-5. Join at anytime during those hours to have your picture taken and posted on the CV Facebook page- the photo with the most likes wins!
URL:https://craftsandvines.com/event/moira-rose-rose-all-day/
END:VEVENT
BEGIN:VEVENT
DTSTART;TZID=America/New_York:20210923T180000
DTEND;TZID=America/New_York:20210923T210000
DTSTAMP:20260424T084911
CREATED:20210721T205814Z
LAST-MODIFIED:20210721T205814Z
UID:4938-1632420000-1632430800@craftsandvines.com
SUMMARY:Wine Tasting
DESCRIPTION:Limited seating available\, reservations required for 2 seatings 6:00 and 7:45. \nCall to reserve your seat \nWines TBD- 4 Tastes $10
URL:https://craftsandvines.com/event/wine-tasting-18/
END:VEVENT
BEGIN:VEVENT
DTSTART;TZID=America/New_York:20210909T180000
DTEND;TZID=America/New_York:20210909T210000
DTSTAMP:20260424T084911
CREATED:20210721T205707Z
LAST-MODIFIED:20210721T205707Z
UID:4936-1631210400-1631221200@craftsandvines.com
SUMMARY:Wine Tasting
DESCRIPTION:Limited seating available\, reservations required for 2 seatings 6:00 and 7:45. \nCall to reserve your seat \nWines TBD- 4 Tastes $10
URL:https://craftsandvines.com/event/wine-tasting-17/
END:VEVENT
BEGIN:VEVENT
DTSTART;TZID=America/New_York:20210826T180000
DTEND;TZID=America/New_York:20210826T210000
DTSTAMP:20260424T084911
CREATED:20210721T205557Z
LAST-MODIFIED:20210721T205557Z
UID:4934-1630000800-1630011600@craftsandvines.com
SUMMARY:Wine Tasting
DESCRIPTION:Limited seating available\, reservations required for 2 seatings 6:00 and 7:45. \nCall to reserve your seat \nWines TBD- 4 Tastes $10
URL:https://craftsandvines.com/event/wine-tasting-16/
END:VEVENT
BEGIN:VEVENT
DTSTART;TZID=America/New_York:20210818T190000
DTEND;TZID=America/New_York:20210818T210000
DTSTAMP:20260424T084911
CREATED:20210624T204005Z
LAST-MODIFIED:20210624T204005Z
UID:4874-1629313200-1629320400@craftsandvines.com
SUMMARY:Wine 101- Introduction To Wine
DESCRIPTION:America and the New World: California\, Oregon\, Washington\, Chile\, Argentina\, and the rise of varietal labeling. \nWine seminars taught by Austin Beeman. \nCall us to reserve your spot. $25 per seminar. limited seating available. \n 
URL:https://craftsandvines.com/event/wine-101-introduction-to-wine-2/
END:VEVENT
BEGIN:VEVENT
DTSTART;TZID=America/New_York:20210812T180000
DTEND;TZID=America/New_York:20210812T210000
DTSTAMP:20260424T084911
CREATED:20210721T205441Z
LAST-MODIFIED:20210721T205441Z
UID:4932-1628791200-1628802000@craftsandvines.com
SUMMARY:Wine Tasting
DESCRIPTION:Limited seating available\, reservations required for 2 seatings 6:00 and 7:45. \nCall to reserve your seat \nWines TBD- 4 Tastes $10
URL:https://craftsandvines.com/event/wine-tasting-15/
END:VEVENT
BEGIN:VEVENT
DTSTART;TZID=America/New_York:20210729T180000
DTEND;TZID=America/New_York:20210729T220000
DTSTAMP:20260424T084911
CREATED:20210614T154934Z
LAST-MODIFIED:20210624T204956Z
UID:4853-1627581600-1627596000@craftsandvines.com
SUMMARY:German Wine Tasting
DESCRIPTION:Limited seating available\, reservations required for 2 seatings 6:00 and 7:45. \nCall to reserve your seat \nWines TBD- 4 Tastes $10
URL:https://craftsandvines.com/event/wine-tasting-14/
END:VEVENT
BEGIN:VEVENT
DTSTART;TZID=America/New_York:20210721T190000
DTEND;TZID=America/New_York:20210721T210000
DTSTAMP:20260424T084911
CREATED:20210624T203539Z
LAST-MODIFIED:20210721T205117Z
UID:4872-1626894000-1626901200@craftsandvines.com
SUMMARY:Wine 101-Introduction To Wine
DESCRIPTION:Wine seminars taught by Austin Beeman will be resuming. Austin will be picking up where he left off before the Covid shutdowns. \nThis session will explore The Rest of the Old World: Italy\, Spain\, Germany\, and Austria. \nCall us or stop in to reserve your spot. $25 per session. Limited seating available.
URL:https://craftsandvines.com/event/wine-101-introduction-to-wine/
END:VEVENT
BEGIN:VEVENT
DTSTART;TZID=America/New_York:20210715T180000
DTEND;TZID=America/New_York:20210715T220000
DTSTAMP:20260424T084911
CREATED:20210614T154709Z
LAST-MODIFIED:20210624T205134Z
UID:4848-1626372000-1626386400@craftsandvines.com
SUMMARY:Wine Tasting
DESCRIPTION:Limited seating available\, reservations required for 2 seatings 6:00 and 7:45. \nCall to reserve your seat \nWines TBD- 4 Tastes $10
URL:https://craftsandvines.com/event/wine-tasting-12/
END:VEVENT
BEGIN:VEVENT
DTSTART;TZID=America/New_York:20210701T180000
DTEND;TZID=America/New_York:20210701T220000
DTSTAMP:20260424T084911
CREATED:20210614T154612Z
LAST-MODIFIED:20210624T205048Z
UID:4846-1625162400-1625176800@craftsandvines.com
SUMMARY:New Zealand Wine Tasting
DESCRIPTION:Limited seating available\, reservations required for 2 seating’s 6:00 and 7:45. \nCall to reserve your seat \nWines TBD- 4 Tastes $10
URL:https://craftsandvines.com/event/wine-tasting-11/
END:VEVENT
BEGIN:VEVENT
DTSTART;TZID=America/New_York:20210626T110000
DTEND;TZID=America/New_York:20210626T140000
DTSTAMP:20260424T084911
CREATED:20210614T154247Z
LAST-MODIFIED:20210614T154333Z
UID:4843-1624705200-1624716000@craftsandvines.com
SUMMARY:Main Street Tavern Revival Brunch
DESCRIPTION:Join us for the Main Street Tavern Revival Brunch- Chef Bill and Chef Josh will be here serving up a delicious brunch for you. Seating is first come first served so get here early as we will fill up quickly.
URL:https://craftsandvines.com/event/main-street-tavern-revival-brunch/
END:VEVENT
BEGIN:VEVENT
DTSTART;TZID=America/New_York:20210624T190000
DTEND;TZID=America/New_York:20210624T210000
DTSTAMP:20260424T084911
CREATED:20210624T204904Z
LAST-MODIFIED:20210624T204904Z
UID:4878-1624561200-1624568400@craftsandvines.com
SUMMARY:Wine 101- Introduction To Wine
DESCRIPTION:Currently Trending Wine- Recap the former five sessions by applying your new knowledge to today’s trending topics- including natural wines\, organics\, orange wine\, and more…. \nWine seminars taught by Austin Beeman. $25 per session\, limited seating available. Call us to reserve your spot.
URL:https://craftsandvines.com/event/wine-101-introduction-to-wine-3/
END:VEVENT
BEGIN:VEVENT
DTSTART;TZID=America/New_York:20210615T120000
DTEND;TZID=America/New_York:20210619T150000
DTSTAMP:20260424T084911
CREATED:20210614T153755Z
LAST-MODIFIED:20210614T154837Z
UID:4838-1623758400-1624114800@craftsandvines.com
SUMMARY:Father's Day Gift Box Pre Order
DESCRIPTION:Call 859-360-0476 to order your Father’s Day Gift Box- Included your choice of a Bottled Old Fashioned cocktail from Buffalo Trace or a Bottled Manhattan from Sazerac\, a small custom made cutting board\, Opinel folding knife\, and 2 rocks glasses for $75
URL:https://craftsandvines.com/event/fathers-day-gift-box-pre-order-cut-off/
END:VEVENT
BEGIN:VEVENT
DTSTART;TZID=America/New_York:20210614T080000
DTEND;TZID=America/New_York:20210614T170000
DTSTAMP:20260424T084911
CREATED:20210614T154743Z
LAST-MODIFIED:20210614T154743Z
UID:4850-1623657600-1623690000@craftsandvines.com
SUMMARY:Wine Tasting
DESCRIPTION:Limited seating available\, reservations required for 2 seating’s 6:00 and 7:45. \nCall to reserve your seat \nWines TBD- 4 Tastes $10
URL:https://craftsandvines.com/event/wine-tasting-13/
END:VEVENT
BEGIN:VEVENT
DTSTART;TZID=America/New_York:20210614T080000
DTEND;TZID=America/New_York:20210614T170000
DTSTAMP:20260424T084911
CREATED:20210614T153932Z
LAST-MODIFIED:20210614T153957Z
UID:4840-1623657600-1623690000@craftsandvines.com
SUMMARY:Wine Tasting-Italian Summer Wines
DESCRIPTION:First Seating:6pm- Closed for reservations \nSecond Seating: 7:45pm- call to reserve your seat. \n4 Tastes-$10
URL:https://craftsandvines.com/event/wine-tasting-italian-summer-wines/
END:VEVENT
BEGIN:VEVENT
DTSTART;TZID=America/New_York:20210603T180000
DTEND;TZID=America/New_York:20210603T210000
DTSTAMP:20260424T084911
CREATED:20210525T224549Z
LAST-MODIFIED:20210525T224636Z
UID:4825-1622743200-1622754000@craftsandvines.com
SUMMARY:Wine Tasting
DESCRIPTION:French Summer Wines \n4 Tastes $10
URL:https://craftsandvines.com/event/wine-tasting-10/
END:VEVENT
BEGIN:VEVENT
DTSTART;VALUE=DATE:20210529
DTEND;VALUE=DATE:20210530
DTSTAMP:20260424T084911
CREATED:20210525T225006Z
LAST-MODIFIED:20210525T225053Z
UID:4827-1622246400-1622332799@craftsandvines.com
SUMMARY:Rose' All Day
DESCRIPTION:Noon-5PM – Sparkling Rose’\,$15 per person \n5PM-Close – $7 Diora Rose’ glass pours\, and Rosaritas’s \n  \n 
URL:https://craftsandvines.com/event/rose-all-day/
END:VEVENT
BEGIN:VEVENT
DTSTART;TZID=America/New_York:20210520T180000
DTEND;TZID=America/New_York:20210520T220000
DTSTAMP:20260424T084911
CREATED:20210422T131740Z
LAST-MODIFIED:20210422T131740Z
UID:2709-1621533600-1621548000@craftsandvines.com
SUMMARY:Rose Tasting
DESCRIPTION:Limited seating available\, reservations required for 2 seatings 6:00 and 7:45. \nCall to reserve your seat \nWines TBD- 4 Tastes $10
URL:https://craftsandvines.com/event/rose-tasting/
END:VEVENT
BEGIN:VEVENT
DTSTART;TZID=America/New_York:20210515T120000
DTEND;TZID=America/New_York:20210515T233000
DTSTAMP:20260424T084911
CREATED:20210422T132322Z
LAST-MODIFIED:20210507T161301Z
UID:2713-1621080000-1621121400@craftsandvines.com
SUMMARY:Rose All Day Returns-Every Saturday Through September
DESCRIPTION:Join us for Rose All Day! Doors open Noon-12AM. We will feature Rose drink specials all day\, including $15 per person Sparkling Rose from Noon to 5PM\, and $7 Diora Rose by the glass and $7 Rosarita cocktails from 5PM-12AM.
URL:https://craftsandvines.com/event/rose-all-day-returns/
END:VEVENT
BEGIN:VEVENT
DTSTART;TZID=America/New_York:20210515T120000
DTEND;TZID=America/New_York:20210515T180000
DTSTAMP:20260424T084911
CREATED:20210507T161845Z
LAST-MODIFIED:20210507T161933Z
UID:4807-1621080000-1621101600@craftsandvines.com
SUMMARY:Scarlet Begonia's Flower Truck Pop-Up
DESCRIPTION:Scarlet Begonia’s flower truck will be parked out back wrapping up her giant gorgeous bouquets from Noon until Sold Out.
URL:https://craftsandvines.com/event/scarlet-begonias-flower-truck-pop-up/
END:VEVENT
BEGIN:VEVENT
DTSTART;TZID=America/New_York:20210506T180000
DTEND;TZID=America/New_York:20210506T220000
DTSTAMP:20260424T084911
CREATED:20210422T131439Z
LAST-MODIFIED:20210422T131439Z
UID:2707-1620324000-1620338400@craftsandvines.com
SUMMARY:Wine Tasting
DESCRIPTION:Limited seating available\, reservations required for 2 seatings 6:00 and 7:45. \nCall to reserve your seat \nWines TBD- 4 Tastes $10
URL:https://craftsandvines.com/event/wine-tasting-9/
END:VEVENT
BEGIN:VEVENT
DTSTART;TZID=America/New_York:20210422T180000
DTEND;TZID=America/New_York:20210422T190000
DTSTAMP:20260424T084911
CREATED:20210304T232600Z
LAST-MODIFIED:20210422T130836Z
UID:2592-1619114400-1619118000@craftsandvines.com
SUMMARY:Wine Tasting-Featuring Locations Wine by Dave Phinney
DESCRIPTION:Limited seating available\, reservations required for 2 seatings 6:00 and 7:45. \nCall to reserve your seat
URL:https://craftsandvines.com/event/wine-tasting-8/
END:VEVENT
BEGIN:VEVENT
DTSTART;TZID=America/New_York:20210422T080000
DTEND;TZID=America/New_York:20210422T170000
DTSTAMP:20260424T084911
CREATED:20210422T131952Z
LAST-MODIFIED:20210422T131952Z
UID:2711-1619078400-1619110800@craftsandvines.com
SUMMARY:Derby Day
DESCRIPTION:Join us for Mint Juleps and Kentucky Burgoo.
URL:https://craftsandvines.com/event/derby-day/
END:VEVENT
BEGIN:VEVENT
DTSTART;TZID=America/New_York:20210408T180000
DTEND;TZID=America/New_York:20210408T190000
DTSTAMP:20260424T084911
CREATED:20210304T232355Z
LAST-MODIFIED:20210304T232355Z
UID:2590-1617904800-1617908400@craftsandvines.com
SUMMARY:Wine Tasting
DESCRIPTION:Limited seating available\, reservations required for 6:00PM and 7:30PM. \nCall to reserve your seat
URL:https://craftsandvines.com/event/wine-tasting-7/
END:VEVENT
BEGIN:VEVENT
DTSTART;TZID=America/New_York:20210325T180000
DTEND;TZID=America/New_York:20210325T190000
DTSTAMP:20260424T084911
CREATED:20210304T232046Z
LAST-MODIFIED:20210304T232046Z
UID:2587-1616695200-1616698800@craftsandvines.com
SUMMARY:Wine Tasting
DESCRIPTION:Limited seating available\, reservations required for 2 seatings 6PM and 7:30PM \nCall to reserve your seat.
URL:https://craftsandvines.com/event/wine-tasting-6/
END:VEVENT
BEGIN:VEVENT
DTSTART;TZID=America/New_York:20210311T180000
DTEND;TZID=America/New_York:20210311T180000
DTSTAMP:20260424T084911
CREATED:20210304T231502Z
LAST-MODIFIED:20210304T231816Z
UID:2583-1615485600-1615485600@craftsandvines.com
SUMMARY:Wine Tasting
DESCRIPTION:Featuring Willful Wines and Patricia Greene Cellars Wines. \nLimited seating available\, reservations required\, 2 seatings- 6PM and 7:30PM \nCall to reserve a seat
URL:https://craftsandvines.com/event/wine-tasting-5/
END:VEVENT
BEGIN:VEVENT
DTSTART;TZID=America/New_York:20210225T193000
DTEND;TZID=America/New_York:20210225T210000
DTSTAMP:20260424T084911
CREATED:20210114T173527Z
LAST-MODIFIED:20210114T173527Z
UID:2541-1614281400-1614286800@craftsandvines.com
SUMMARY:Wine Tasting- Wines TBD
DESCRIPTION:Reservations required- Please call 859-360-0476 to reserve your seat.
URL:https://craftsandvines.com/event/wine-tasting-wines-tbd-2/
END:VEVENT
BEGIN:VEVENT
DTSTART;TZID=America/New_York:20210211T193000
DTEND;TZID=America/New_York:20210211T210000
DTSTAMP:20260424T084911
CREATED:20210114T173303Z
LAST-MODIFIED:20210114T173303Z
UID:2539-1613071800-1613077200@craftsandvines.com
SUMMARY:Wine Tasting- Wines TBD
DESCRIPTION:Reservations required- Please call 859-360-0476 to reserve your seat.
URL:https://craftsandvines.com/event/wine-tasting-wines-tbd/
END:VEVENT
BEGIN:VEVENT
DTSTART;TZID=America/New_York:20210128T193000
DTEND;TZID=America/New_York:20210128T210000
DTSTAMP:20260424T084911
CREATED:20210114T173124Z
LAST-MODIFIED:20210114T173124Z
UID:2537-1611862200-1611867600@craftsandvines.com
SUMMARY:Wine Tasting- Spanish Wines
DESCRIPTION:Reservations required- Please call 859-360-0479 to reserve your seat.
URL:https://craftsandvines.com/event/wine-tasting-spanish-wines/
END:VEVENT
END:VCALENDAR